BEGIN:VCALENDAR
VERSION:2.0
PRODID:-//ChamberMaster//Event Calendar 2.0//EN
METHOD:PUBLISH
X-PUBLISHED-TTL:P3D
REFRESH-INTERVAL:P3D
CALSCALE:GREGORIAN
BEGIN:VEVENT
DTSTART:20110312T160000Z
DTEND:20110312T200000Z
X-MICROSOFT-CDO-ALLDAYEVENT:FALSE
SUMMARY:YWCA Fitness Open House and Free Community Swim
DESCRIPTION:The YWCA of Pekin is hosting a fitness open house\, "March Into Fitness" on Saturday\, March 12th from 10 a.m. to 2 p.m.  Demonstrations of Karate\, SilverSneakers\, and Water Aerobics classes will take place throughout the day.  Tours of the facility will be available and staff will be on hand to answer all your questions about YWCA fitness programs.  In addition\, a free community swim will be held from 12:00 Noon to 1 p.m. in the indoor pool. \n\n \n\nSpecials on memberships and several monthly packages also will be available on March 12th\, with no long term contracts required.  Stop by to find out how the YWCA can help you reach your fitness goals!
X-ALT-DESC;FMTTYPE=text/html:The YWCA of Pekin is hosting a fitness open house\, &ldquo\;March Into Fitness&rdquo\; on Saturday\, March 12<sup>th</sup> from 10 a.m. to 2 p.m.&nbsp\; Demonstrations of Karate\, SilverSneakers\, and Water Aerobics classes will take place throughout the day.&nbsp\; Tours of the facility will be available and staff will be on hand to answer all your questions about YWCA fitness programs.&nbsp\; In addition\, a free community swim will be held from 12:00 Noon to 1 p.m. in the indoor pool.&nbsp\;<br />\n&nbsp\;<br />\nSpecials on memberships and several monthly packages also will be available on March 12<sup>th</sup>\, with no long term contracts required.&nbsp\; Stop by to find out how the YWCA can help you reach your fitness goals!<br />\n
LOCATION:YWCA of Pekin 315 Buena Vista Pekin\, IL 61554
UID:e.112.5347
SEQUENCE:3
DTSTAMP:20260422T065852Z
URL:http://www.business.pekinchamber.com/events/details/ywca-fitness-open-house-and-free-community-swim-03-12-2011-5347
END:VEVENT

END:VCALENDAR
