BEGIN:VCALENDAR
VERSION:2.0
PRODID:-//ChamberMaster//Event Calendar 2.0//EN
METHOD:PUBLISH
X-PUBLISHED-TTL:P3D
REFRESH-INTERVAL:P3D
CALSCALE:GREGORIAN
BEGIN:VEVENT
DTSTART:20110413T200000Z
DTEND:20110413T210000Z
X-MICROSOFT-CDO-ALLDAYEVENT:FALSE
SUMMARY:Women's Marigold Golf Committee
DESCRIPTION:Committee Meeting
X-ALT-DESC;FMTTYPE=text/html:<div>Committee Meeting</div>
LOCATION:Pekin Area Chamber of Commerce402 Court StreetPekin\, IL 61554 346-2106
UID:e.112.5356
SEQUENCE:3
DTSTAMP:20260422T052000Z
URL:http://www.business.pekinchamber.com/events/details/women-s-marigold-golf-committee-04-13-2011-5356
END:VEVENT

END:VCALENDAR
