BEGIN:VCALENDAR
VERSION:2.0
PRODID:-//ChamberMaster//Event Calendar 2.0//EN
METHOD:PUBLISH
X-PUBLISHED-TTL:P3D
REFRESH-INTERVAL:P3D
CALSCALE:GREGORIAN
BEGIN:VEVENT
DTSTART;VALUE=DATE:20111111
DTEND;VALUE=DATE:20111112
TRANSP:TRANSPARENT
X-MICROSOFT-CDO-ALLDAYEVENT:TRUE
SUMMARY:Veteran's Day
DESCRIPTION:Chamber office closed
X-ALT-DESC;FMTTYPE=text/html:Chamber office closed
LOCATION:
UID:e.112.5142
SEQUENCE:3
DTSTAMP:20260421T181359Z
URL:http://www.business.pekinchamber.com/events/details/veteran-s-day-11-11-2011-5142
END:VEVENT

END:VCALENDAR
