BEGIN:VCALENDAR
VERSION:2.0
PRODID:-//ChamberMaster//Event Calendar 2.0//EN
METHOD:PUBLISH
X-PUBLISHED-TTL:P3D
REFRESH-INTERVAL:P3D
CALSCALE:GREGORIAN
BEGIN:VEVENT
DTSTART:20071208T193000Z
DTEND:20071208T233000Z
X-MICROSOFT-CDO-ALLDAYEVENT:FALSE
SUMMARY:United Way of Pekin's Homes for the Holidays - A Tour of Homes
DESCRIPTION:On Saturday\, December 8th\, the 13th Annual Christmas Tour of Homes will again be presented by the United Way of Pekin. Five Pekin homes located in the historic Washington Street area will be open to the public from 1:30 to 5:30 p.m. for a $10.00 donation. The St. Paul Episcopal Church at 411 Washington will be selling Christmas treats and warm beverages in the lower level. The five beautifully decorated homes will bring alive the spirit of a Christmas past. Local interior designers and florists will be working with each homeowner. Side-walk carolers and Santa Clause will add to the festive spirit. With each ticket purchased comes the opportunity to receive great door prizes donated by Pekin businesses. Tickets can be purchased in advance at Bergners in Pekin\, Stegers\, Hairliners\, Herget Bank\, and the Pekin United Way office. For additional information please contact the United Way office at 346-2433\, or the day of the Tour the tickets will be available at any home.
X-ALT-DESC;FMTTYPE=text/html:<div>On Saturday\, December 8th\, the 13th Annual Christmas Tour of Homes will again be presented by the United Way of Pekin. Five Pekin homes located in the historic Washington Street area will be open to the public from 1:30 to 5:30 p.m. for a $10.00 donation. The St. Paul Episcopal Church at 411 Washington will be selling Christmas treats and warm beverages in the lower level. The five beautifully decorated homes will bring alive the spirit of a Christmas past. Local interior designers and florists will be working with each homeowner. Side-walk carolers and Santa Clause will add to the festive spirit. With each ticket purchased comes the opportunity to receive great door prizes donated by Pekin businesses. Tickets can be purchased in advance at Bergners in Pekin\, Stegers\, Hairliners\, Herget Bank\, and the Pekin United Way office. For additional information please contact the United Way office at 346-2433\, or the day of the Tour the tickets will be available at any home.</div>
LOCATION:Washington Street area
UID:e.112.2699
SEQUENCE:3
DTSTAMP:20260424T194024Z
URL:http://www.business.pekinchamber.com/events/details/united-way-of-pekin-s-homes-for-the-holidays-a-tour-of-homes-12-08-2007-2699
END:VEVENT

END:VCALENDAR
