BEGIN:VCALENDAR
VERSION:2.0
PRODID:-//ChamberMaster//Event Calendar 2.0//EN
METHOD:PUBLISH
X-PUBLISHED-TTL:P3D
REFRESH-INTERVAL:P3D
CALSCALE:GREGORIAN
BEGIN:VEVENT
DTSTART:20091205T013000Z
DTEND:20091205T030000Z
X-MICROSOFT-CDO-ALLDAYEVENT:FALSE
SUMMARY:United Way Benefit Christmas Concert
DESCRIPTION:The Most Wonderful Time of the Year Featuring Friends in HarmonyWashington Intermediate School Auditorium501 Washington StreetSpecial guest appearance by Washington Intervediate School's 5th and 6th Grade Chorus!Tickets are $10 and available at United Way\, Steger's Furniture\, and from chorus members.  Tickets at the door are subject to availability.
X-ALT-DESC;FMTTYPE=text/html:<p style="text-align: center"><span style="font-size: medium"><span style="font-family: Arial">The Most Wonderful Time of the Year</span><span id="1259611222028S" style="display: none">&nbsp\;</span></span></p><p style="text-align: center"><span style="font-size: medium"><p style="text-align: center"><span style="font-family: Arial">Featuring Friends in Harmony</span></p><p style="text-align: center"><span style="font-family: Arial">Washington Intermediate School Auditorium</span></p><p style="text-align: center"><span style="font-family: Arial">501 Washington Street</span></p><p style="text-align: center"><span style="font-family: Arial">Special guest appearance by Washington Intervediate School&rsquo\;s 5th and 6th Grade Chorus!</span></p><p style="text-align: center"><span style="font-family: Arial">Tickets are $10 and available at United Way\, Steger&rsquo\;s Furniture\, and from chorus members.&nbsp\; Tickets at the door are subject to availability.</span></p></span></p>
LOCATION:Washington Intermediate School Auditorium501 Washington
UID:e.112.3737
SEQUENCE:3
DTSTAMP:20260423T054250Z
URL:http://www.business.pekinchamber.com/events/details/united-way-benefit-christmas-concert-12-04-2009-3737
END:VEVENT

END:VCALENDAR
