BEGIN:VCALENDAR
VERSION:2.0
PRODID:-//ChamberMaster//Event Calendar 2.0//EN
METHOD:PUBLISH
X-PUBLISHED-TTL:P3D
REFRESH-INTERVAL:P3D
CALSCALE:GREGORIAN
BEGIN:VEVENT
DTSTART:20110114T000000Z
DTEND:20110114T023000Z
X-MICROSOFT-CDO-ALLDAYEVENT:FALSE
SUMMARY:Trivia Night - Tazewell County Jaycees
DESCRIPTION:Please join the Tazewell County Jaycees for their monthly trivia night.  Teams may consist of 2 - 10 people. The winning team receives 2 free pizzas and free play at the next trivia night and the Tazewell Trivia Traveling Trophy.  Door prizes will be awarded throughout the evening.  A portion of this month's proceeds benefits TAPS. For more information contact tazcojaycees@yahoo.com.
X-ALT-DESC;FMTTYPE=text/html:Please join the Tazewell County Jaycees for their monthly trivia night.  Teams may consist of 2 - 10 people. The winning team receives 2 free pizzas and free play at the next trivia night and the Tazewell Trivia Traveling Trophy.  Door prizes will be awarded throughout the evening.  A portion of this month's proceeds benefits TAPS. For more information contact tazcojaycees@yahoo.com.
LOCATION:EP's Timeout - East Peoria\, IL
UID:e.112.5313
SEQUENCE:3
DTSTAMP:20260422T095704Z
URL:http://www.business.pekinchamber.com/events/details/trivia-night-tazewell-county-jaycees-01-13-2011-5313
END:VEVENT

END:VCALENDAR
