BEGIN:VCALENDAR
VERSION:2.0
PRODID:-//ChamberMaster//Event Calendar 2.0//EN
METHOD:PUBLISH
X-PUBLISHED-TTL:P3D
REFRESH-INTERVAL:P3D
CALSCALE:GREGORIAN
BEGIN:VEVENT
DTSTART:20111214T140000Z
DTEND:20111214T150000Z
X-MICROSOFT-CDO-ALLDAYEVENT:FALSE
SUMMARY:Transportation Committee
DESCRIPTION:Transportation Committee Meeting\n\n	\n\n	The December meeting will be special...we'll experience passenger rail first hand\, as we take Amtrak from Normal\, IL to Chicago.  We'll spend some time downtown\, including taking a tour of the Chicago Board of Trade.  Contact Bill Fleming at the Pekin Area Chamber of Commerce for more details.
X-ALT-DESC;FMTTYPE=text/html:<div>\n	Transportation Committee Meeting<br />\n	<br />\n	The December meeting will be special...we&#39\;ll experience passenger rail first hand\, as we take Amtrak from Normal\, IL to Chicago.&nbsp\; We&#39\;ll spend some time downtown\, including taking a tour of the Chicago Board of Trade.&nbsp\; Contact Bill Fleming at the Pekin Area Chamber of Commerce for more details.</div>\n
LOCATION:
UID:e.112.4099
SEQUENCE:3
DTSTAMP:20260420T131737Z
URL:http://www.business.pekinchamber.com/events/details/transportation-committee-12-14-2011-4099
END:VEVENT

END:VCALENDAR
