BEGIN:VCALENDAR
VERSION:2.0
PRODID:-//ChamberMaster//Event Calendar 2.0//EN
METHOD:PUBLISH
X-PUBLISHED-TTL:P3D
REFRESH-INTERVAL:P3D
CALSCALE:GREGORIAN
BEGIN:VEVENT
DTSTART:20090316T230000Z
DTEND:20090317T010000Z
X-MICROSOFT-CDO-ALLDAYEVENT:FALSE
SUMMARY:Town Hall Meeting
DESCRIPTION:State Representative Mike Smith\, State Senator Dave Koehler\, and Pekin Mayor Rusty Dunn invite you to  join them for a Town Hall Meeting. Monday\, March 16th\, 6:00pm at Pekin City Hall\, 111 S. Capitol Please stop by to meet with Senator Koehler\, Representative Smith and Mayor Dunn for a brief legislative update and to discuss current state and local issues.  Join us for refreshments and to share your views on what is happening across the state and right here in your community.
X-ALT-DESC;FMTTYPE=text/html:<div>State Representative Mike Smith\, State Senator Dave Koehler\, and Pekin Mayor Rusty Dunn invite you to&nbsp\; join them for a Town Hall Meeting.</div><div>&nbsp\;</div><div>Monday\, March 16th\, 6:00pm at Pekin City Hall\, 111 S. Capitol</div><div>&nbsp\;</div><div>Please stop by to meet with Senator Koehler\, Representative Smith and Mayor Dunn for a brief legislative update and to discuss current state and local issues.&nbsp\; Join us for refreshments and to share your views on what is happening across the state and right here in your community.</div>
LOCATION:Pekin City Hall111 S. CapitolPekin\, Illinois
UID:e.112.3666
SEQUENCE:3
DTSTAMP:20260423T184430Z
URL:http://www.business.pekinchamber.com/events/details/town-hall-meeting-03-16-2009-3666
END:VEVENT

END:VCALENDAR
