BEGIN:VCALENDAR
VERSION:2.0
PRODID:-//ChamberMaster//Event Calendar 2.0//EN
METHOD:PUBLISH
X-PUBLISHED-TTL:P3D
REFRESH-INTERVAL:P3D
CALSCALE:GREGORIAN
BEGIN:VEVENT
DTSTART;VALUE=DATE:20100827
DTEND;VALUE=DATE:20100828
TRANSP:TRANSPARENT
X-MICROSOFT-CDO-ALLDAYEVENT:TRUE
SUMMARY:Tomorrow's Hope Christian Academy Golf Tournament
DESCRIPTION:Inlcudes 18-holes of golf\, riding cart\, and chance to win various prizes!\n\n\n\nAwards:  Longest Drive    Closest to the Pin
X-ALT-DESC;FMTTYPE=text/html:Inlcudes 18-holes of golf\, riding cart\, and chance to win various prizes!\n<br>\n<br>Awards:  Longest Drive    Closest to the Pin
LOCATION:Parkkview Golf Course Pekin\, Il
UID:e.112.4912
SEQUENCE:3
DTSTAMP:20260422T174226Z
URL:http://www.business.pekinchamber.com/events/details/tomorrow-s-hope-christian-academy-golf-tournament-08-27-2010-4912
END:VEVENT

END:VCALENDAR
