BEGIN:VCALENDAR
VERSION:2.0
PRODID:-//ChamberMaster//Event Calendar 2.0//EN
METHOD:PUBLISH
X-PUBLISHED-TTL:P3D
REFRESH-INTERVAL:P3D
CALSCALE:GREGORIAN
BEGIN:VEVENT
DTSTART;VALUE=DATE:20110806
DTEND;VALUE=DATE:20110807
TRANSP:TRANSPARENT
X-MICROSOFT-CDO-ALLDAYEVENT:TRUE
SUMMARY:Tomorrow's Hope Christian Academy Golf Outing Fundraiser
DESCRIPTION:
X-ALT-DESC;FMTTYPE=text/html:
LOCATION:Parkview Golf Course
UID:e.112.5371
SEQUENCE:3
DTSTAMP:20260421T224930Z
URL:http://www.business.pekinchamber.com/events/details/tomorrow-s-hope-christian-academy-golf-outing-fundraiser-08-06-2011-5371
END:VEVENT

END:VCALENDAR
