BEGIN:VCALENDAR
VERSION:2.0
PRODID:-//ChamberMaster//Event Calendar 2.0//EN
METHOD:PUBLISH
X-PUBLISHED-TTL:P3D
REFRESH-INTERVAL:P3D
CALSCALE:GREGORIAN
BEGIN:VEVENT
DTSTART:20110512T123000Z
DTEND:20110512T140000Z
X-MICROSOFT-CDO-ALLDAYEVENT:FALSE
SUMMARY:Tech Show 'n Tell
DESCRIPTION:Bring your favorite app\, widget\, website\, software tip\, tech tip\, blog\, tech gadget or hardware and tell everyone how it makes you more productive. Or just come and learn about the latest technologies and how others are using them to be more efficient and productive.\n\n\n\nTech and Tell will be held Thursday\, May 12th\, 7:30 a.m. at the Avanti's Dome Events & Sports Center of Pekin.  FREE Coffee\n\n\n\nNo reservation is needed\, but feel free to call and let us know what you're bringing
X-ALT-DESC;FMTTYPE=text/html:<span style="font-family: arial\, helvetica\, sans-serif"><span style="font-family: tahoma">Bring your favorite app\, widget\, website\, software tip\, tech tip\, blog\, tech gadget or hardware and tell everyone how it makes you more productive. Or </span><span style="font-family: tahoma">j</span><span style="font-family: tahoma">ust come and learn about the latest technologies and how others are using them to be more efficient and productive.</span></span><br />\n<br />\n<span style="font-family: arial\, helvetica\, sans-serif"><span style="font-family: tahoma">Tech and Tell will be held Thursday\,&nbsp\;May 12<sup><font size="2">th</font></sup>\, 7:30 a.m. at the </span><span style="font-family: tahoma">Avanti&rsquo\;s Dome Events &amp\; Sports Center of Pekin.&nbsp\; FREE Coffee</span></span><br />\n<br />\n<span style="font-family: tahoma"><span style="font-family: arial\, helvetica\, sans-serif">No reservation is needed\, but feel free to call and let us know what you&rsquo\;re bringing<span _fck_bookmark="1" style="display: none">&nbsp\;</span></span></span>
LOCATION:Avanti's Dome Events & Sports Center of Pekin 3401 Griffin Avenue
UID:e.112.5358
SEQUENCE:3
DTSTAMP:20260422T034243Z
URL:http://www.business.pekinchamber.com/events/details/tech-show-n-tell-05-12-2011-5358
END:VEVENT

END:VCALENDAR
