BEGIN:VCALENDAR
VERSION:2.0
PRODID:-//ChamberMaster//Event Calendar 2.0//EN
METHOD:PUBLISH
X-PUBLISHED-TTL:P3D
REFRESH-INTERVAL:P3D
CALSCALE:GREGORIAN
BEGIN:VEVENT
DTSTART:20120403T160000Z
DTEND:20120404T040000Z
X-MICROSOFT-CDO-ALLDAYEVENT:FALSE
SUMMARY:TCRC\, INC Community Day at Monical's Pizza
DESCRIPTION:Please join Tazewell County Resource Centers on Tuesday\, April 3\, 2012 from 11am-10pm(ALL DAY) to enjoy great pizza and support a great cause.  Supporters are invited to eat at Monical's Pizza for their "Community Day" fundraiser.  It's simple!  Just go online to www.monicalspizza.com\, click on fundraising\, then Community Day calendar and find this event.  Then print flier for the event and dine-in or carry out at Monical's in Pekin\, Morton\, and both Peoria locations.  Monical's will donate 20% of your check to TCRC\, INC.\n\n	For a flier and to learn more about TCRC\, INC. visit www.tcrcorg.com/\n\n	\n\n	Join us at lunch with work friends or join us at dinner with your family and friends it's that easy!!!
X-ALT-DESC;FMTTYPE=text/html:<p class="MsoNormal" style="margin: 0in 0in 10pt">\n	<span style="line-height: 115%\; font-size: 8pt"><font color="#000000"><span style="line-height: 115%\; font-size: 10pt">Please join Tazewell County Resource Centers on Tuesday\, April 3\, 2012 from 11am-10pm(ALL DAY) to enjoy great pizza and support a great cause.<span style="mso-spacerun: yes">&nbsp\; </span>Supporters are invited to eat at Monical&rsquo\;s Pizza for their &ldquo\;Community Day&rdquo\; fundraiser.<span style="mso-spacerun: yes">&nbsp\; </span>It&rsquo\;s simple!<span style="mso-spacerun: yes">&nbsp\; </span>Just go online to <a href="http://www.monicalspizza.com/">www.monicalspizza.com</a>\, click on fundraising\, then Community Day calendar and find this event.<span style="mso-spacerun: yes">&nbsp\; </span>Then print flier for the event and dine-in&nbsp\;or carry out&nbsp\;at Monical&rsquo\;s in Pekin\, Morton\, and both Peoria locations.<span style="mso-spacerun: yes">&nbsp\; </span>Monical&rsquo\;s will donate 20% of your&nbsp\;check to TCRC\, INC.</span></font></span></p>\n<p align="center" class="MsoNormal" style="text-align: center\; margin: 0in 0in 10pt">\n	<span style="line-height: 115%\; font-size: 8pt"><font color="#000000"><span style="line-height: 115%\; font-size: 10pt">For a flier and to learn more about TCRC\, INC. visit <a href="http://www.tcrcorg.com/">www.<b>tcrc</b>org.com/</a><br />\n	<br />\n	<cite><span style="color: windowtext">Join us at lunch with&nbsp\;work friends or join us at dinner with your family and friends it&#39\;s that easy!!!</span></cite></span></font></span></p>\n
LOCATION:Monical's Pizza in Pekin\, Morton\, Peoria\, Peoria
UID:e.112.5574
SEQUENCE:3
DTSTAMP:20260421T103649Z
URL:http://www.business.pekinchamber.com/events/details/tcrc-inc-community-day-at-monical-s-pizza-04-03-2012-5574
END:VEVENT

END:VCALENDAR
