BEGIN:VCALENDAR
VERSION:2.0
PRODID:-//ChamberMaster//Event Calendar 2.0//EN
METHOD:PUBLISH
X-PUBLISHED-TTL:P3D
REFRESH-INTERVAL:P3D
CALSCALE:GREGORIAN
BEGIN:VEVENT
DTSTART:20090605T150000Z
DTEND:20090605T160000Z
X-MICROSOFT-CDO-ALLDAYEVENT:FALSE
SUMMARY:Tazwell County Children Advocacy Center Ground Breaking
DESCRIPTION:
X-ALT-DESC;FMTTYPE=text/html:
LOCATION:341 Buena Vista
UID:e.112.3717
SEQUENCE:3
DTSTAMP:20260423T143321Z
URL:http://www.business.pekinchamber.com/events/details/tazwell-county-children-advocacy-center-ground-breaking-06-05-2009-3717
END:VEVENT

END:VCALENDAR
