BEGIN:VCALENDAR
VERSION:2.0
PRODID:-//ChamberMaster//Event Calendar 2.0//EN
METHOD:PUBLISH
X-PUBLISHED-TTL:P3D
REFRESH-INTERVAL:P3D
CALSCALE:GREGORIAN
BEGIN:VEVENT
DTSTART:20100722T233000Z
DTEND:20100723T023000Z
X-MICROSOFT-CDO-ALLDAYEVENT:FALSE
SUMMARY:Tazewell County Jaycees Trivia Night
DESCRIPTION:Monthly Trivia Night for charity.  Charity this month is Kisses For Kenzer/ Children's Memorial Hospital/ CMH Marathon team.  We need lots of teams there for this great cause.  There will be a 50/50 and an auction to raise money for Kenzer Burrell\, a local infant with a rare liver disorder: http://www.pekintimes.com/features/x289819374/-Kisses-for-Kenzer-Benefit-to-help-save-baby-s-life.
X-ALT-DESC;FMTTYPE=text/html:Monthly Trivia Night for charity.  Charity this month is Kisses For Kenzer/ Children's Memorial Hospital/ CMH Marathon team.  We need lots of teams there for this great cause.  There will be a 50/50 and an auction to raise money for Kenzer Burrell\, a local infant with a rare liver disorder: http://www.pekintimes.com/features/x289819374/-Kisses-for-Kenzer-Benefit-to-help-save-baby-s-life.
LOCATION:Knights of Colubus in Washington\, IL
UID:e.112.4911
SEQUENCE:3
DTSTAMP:20260422T185757Z
URL:http://www.business.pekinchamber.com/events/details/tazewell-county-jaycees-trivia-night-07-22-2010-4911
END:VEVENT

END:VCALENDAR
