BEGIN:VCALENDAR
VERSION:2.0
PRODID:-//ChamberMaster//Event Calendar 2.0//EN
METHOD:PUBLISH
X-PUBLISHED-TTL:P3D
REFRESH-INTERVAL:P3D
CALSCALE:GREGORIAN
BEGIN:VEVENT
DTSTART:20110624T130000Z
DTEND:20110625T200000Z
X-MICROSOFT-CDO-ALLDAYEVENT:FALSE
SUMMARY:Tazewell County Genealogical & Historical Society Annual Rummage Sale
DESCRIPTION:Lots of items:  household\, knick knacks\, appliances\, many books\, and much more!  (no clothing)  Fundraiser for Society's service activities.  Donations of items welcome.
X-ALT-DESC;FMTTYPE=text/html:Lots of items:&nbsp\; household\, knick knacks\, appliances\, many books\, and much more! &nbsp\;(no clothing) &nbsp\;Fundraiser for Society&#39\;s service activities.&nbsp\; Donations of items welcome.
LOCATION:TCGHS Library Parking Lot\, 719 N.11th St.\, Pekin
UID:e.112.5372
SEQUENCE:3
DTSTAMP:20260422T021729Z
URL:http://www.business.pekinchamber.com/events/details/tazewell-county-genealogical-historical-society-annual-rummage-sale-06-24-2011-5372
END:VEVENT

END:VCALENDAR
