BEGIN:VCALENDAR
VERSION:2.0
PRODID:-//ChamberMaster//Event Calendar 2.0//EN
METHOD:PUBLISH
X-PUBLISHED-TTL:P3D
REFRESH-INTERVAL:P3D
CALSCALE:GREGORIAN
BEGIN:VEVENT
DTSTART:20091029T220000Z
DTEND:20091030T010000Z
X-MICROSOFT-CDO-ALLDAYEVENT:FALSE
SUMMARY:Tazewell County Business After Hours
DESCRIPTION:Join with members from the Pekin\, East Peoria\, Washington and Morton chambers of commerce for a county-wide Business After Hours.  It will be held at Five Points Washington\, 360 N. Wilmor Road\, and is sponsored by the Washington Community Bank and Five Points Washington.
X-ALT-DESC;FMTTYPE=text/html:<div><div><font size="2" face="Arial">Join with members from the Pekin\, East Peoria\, Washington and Morton chambers of commerce for a county-wide Business After Hours.&nbsp\; It will be held at Five Points Washington\, 360 N. Wilmor Road\, and is sponsored by the Washington Community Bank and Five Points Washington.</font></div></div>
LOCATION:Five Points Washington360 N. Wilmor RoadWashington\, Illinois
UID:e.112.3725
SEQUENCE:3
DTSTAMP:20260423T085154Z
URL:http://www.business.pekinchamber.com/events/details/tazewell-county-business-after-hours-10-29-2009-3725
END:VEVENT

END:VCALENDAR
