BEGIN:VCALENDAR
VERSION:2.0
PRODID:-//ChamberMaster//Event Calendar 2.0//EN
METHOD:PUBLISH
X-PUBLISHED-TTL:P3D
REFRESH-INTERVAL:P3D
CALSCALE:GREGORIAN
BEGIN:VEVENT
DTSTART:20100114T230000Z
DTEND:20100115T010000Z
X-MICROSOFT-CDO-ALLDAYEVENT:FALSE
SUMMARY:Tazewell County Business After Hours
DESCRIPTION:Member from the East Peoria\, Morton\, Pekin and Washington Chambers of Commerce are invited to attend a county-wide Business After Hours on Thursday\, January 14th from 5:00 - 7:00pm at the Embassy Suites in East Peoria. The event is sponsored by Fondulac Bank\, the Embassy Suites\, and the chambers of commerce in Tazewell County.
X-ALT-DESC;FMTTYPE=text/html:<div><p>Member from the East Peoria\, Morton\, Pekin and Washington Chambers of Commerce are invited to attend a county-wide Business After Hours on Thursday\, January 14th from 5:00 - 7:00pm at the Embassy Suites in East Peoria. The event is sponsored by Fondulac Bank\, the Embassy Suites\, and the chambers of commerce in Tazewell County.</p></div>
LOCATION:Embassy SuitesEast Peoria
UID:e.112.4858
SEQUENCE:3
DTSTAMP:20260423T040917Z
URL:http://www.business.pekinchamber.com/events/details/tazewell-county-business-after-hours-01-14-2010-4858
END:VEVENT

END:VCALENDAR
