BEGIN:VCALENDAR
VERSION:2.0
PRODID:-//ChamberMaster//Event Calendar 2.0//EN
METHOD:PUBLISH
X-PUBLISHED-TTL:P3D
REFRESH-INTERVAL:P3D
CALSCALE:GREGORIAN
BEGIN:VEVENT
DTSTART;VALUE=DATE:20110718
DTEND;VALUE=DATE:20110722
TRANSP:TRANSPARENT
X-MICROSOFT-CDO-ALLDAYEVENT:TRUE
SUMMARY:Tazewell County 4-H Fair and Jr. Show
DESCRIPTION:Come join in the fun at the Tazewell County 4-H Fair and Jr. Show\, July 18th-21st at Mineral Springs Park in Pekin.  Monday\, July 18th activities: 6:00pm Antique Tractor Pulls\, 6:30 Grand Opening\, 7:00pm Royalty Pageant\n\nTuesday\, July 19th activities: 9:30am Bicycle Safety Demo **Free Bicycle Helmets\, 6:00pm Tractor Pulls\, 6:30pm Livestock Parade\, 7:00pm Group Games\n\nWednesday: 5:00pm Health Screenings\, 6:00pm Swine Auction\, 7:30pm Livestock Auction\n\nThursday: 9:00am Horse Show - all day\, 5:00pm Grand Entry\n\n\n\n*For a more detailed schedule of events and livestock shows\, check out our website: web.extension.illinois.edu/fmpt/tazewell4h or contact the office at 309-347-6614.
X-ALT-DESC;FMTTYPE=text/html:Come join in the fun at the Tazewell County 4-H Fair and Jr. Show\, July 18th-21st at Mineral Springs Park in Pekin.&nbsp\; Monday\, July 18th activities: 6:00pm Antique Tractor Pulls\, 6:30 Grand Opening\, 7:00pm Royalty Pageant<br />\nTuesday\, July 19th activities: 9:30am Bicycle Safety Demo **Free Bicycle Helmets\, 6:00pm Tractor Pulls\, 6:30pm Livestock Parade\, 7:00pm Group Games<br />\nWednesday: 5:00pm Health Screenings\, 6:00pm Swine Auction\, 7:30pm Livestock Auction<br />\nThursday: 9:00am Horse Show - all day\, 5:00pm Grand Entry<br />\n<br />\n*For a more detailed schedule of events&nbsp\;and livestock shows\, check out our website: web.extension.illinois.edu/fmpt/tazewell4h or contact the office at 309-347-6614.
LOCATION:Mineral Springs Park\, Pekin\, IL
UID:e.112.5376
SEQUENCE:3
DTSTAMP:20260422T002640Z
URL:http://www.business.pekinchamber.com/events/details/tazewell-county-4-h-fair-and-jr-show-07-18-2011-5376
END:VEVENT

END:VCALENDAR
