BEGIN:VCALENDAR
VERSION:2.0
PRODID:-//ChamberMaster//Event Calendar 2.0//EN
METHOD:PUBLISH
X-PUBLISHED-TTL:P3D
REFRESH-INTERVAL:P3D
CALSCALE:GREGORIAN
BEGIN:VEVENT
DTSTART:20080504T213000Z
DTEND:20080505T020000Z
X-MICROSOFT-CDO-ALLDAYEVENT:FALSE
SUMMARY:TAPS ANNUAL WINE & DINE
DESCRIPTION:Annual fundraiser for TAPS.  Come enjoy wine\, dinner\, silent auction and entertianment.  Live auction hosted by Gina Morss of WEEK-TV 25.
X-ALT-DESC;FMTTYPE=text/html:Annual fundraiser for TAPS.  Come enjoy wine\, dinner\, silent auction and entertianment.  Live auction hosted by Gina Morss of WEEK-TV 25.
LOCATION:Pekin Country Club
UID:e.112.3155
SEQUENCE:3
DTSTAMP:20260424T091632Z
URL:http://www.business.pekinchamber.com/events/details/taps-annual-wine-dine-05-04-2008-3155
END:VEVENT

END:VCALENDAR
