BEGIN:VCALENDAR
VERSION:2.0
PRODID:-//ChamberMaster//Event Calendar 2.0//EN
METHOD:PUBLISH
X-PUBLISHED-TTL:P3D
REFRESH-INTERVAL:P3D
CALSCALE:GREGORIAN
BEGIN:VEVENT
DTSTART:20080621T230000Z
DTEND:20080622T030000Z
X-MICROSOFT-CDO-ALLDAYEVENT:FALSE
SUMMARY:Summer Concert on Court
DESCRIPTION:New event for Pekin Main StreetMusic fills the air in historic downtown Pekin.  Bring your lawn chairs anf enjoy the live entertainment.  Family event\, although alcohol will be sold.
X-ALT-DESC;FMTTYPE=text/html:<div>New event for Pekin Main Street</div><div>Music fills the air in historic downtown Pekin.&nbsp\; Bring your lawn chairs anf enjoy the live entertainment.&nbsp\; Family event\, although alcohol will be sold.</div>
LOCATION:New event for Pekin Main StreetMusic fills the air in historic downtown Pekin. Bring your lawn chairs anf enjoy the live entertainment. Family event\, although alcohol will be sold.
UID:e.112.3202
SEQUENCE:3
DTSTAMP:20260424T075822Z
URL:http://www.business.pekinchamber.com/events/details/summer-concert-on-court-06-21-2008-3202
END:VEVENT

END:VCALENDAR
