BEGIN:VCALENDAR
VERSION:2.0
PRODID:-//ChamberMaster//Event Calendar 2.0//EN
METHOD:PUBLISH
X-PUBLISHED-TTL:P3D
REFRESH-INTERVAL:P3D
CALSCALE:GREGORIAN
BEGIN:VEVENT
DTSTART:20080620T230000Z
DTEND:20080621T030000Z
X-MICROSOFT-CDO-ALLDAYEVENT:FALSE
SUMMARY:Summer Concert on Court
DESCRIPTION:Pekin Main Street presents the Summer Concert on Court Featuring:  Bonzai Band.  Music fills the air in historic downtown Pekin on Friday\, June 20th from 6:00pm to 10:00pm in the courthouse square.  Food and Alcohol will be served.  For more information contact Pekin Main Street\, 353-3100
X-ALT-DESC;FMTTYPE=text/html:<div>Pekin Main Street presents the Summer Concert on Court Featuring:&nbsp\; Bonzai Band.&nbsp\; Music fills the air in historic downtown Pekin on Friday\, June 20th from 6:00pm to 10:00pm in the courthouse square.&nbsp\; Food and Alcohol will be served.&nbsp\; For more information contact Pekin Main Street\, 353-3100</div>
LOCATION:Historic Downtown Pekin\, on the Courthouse Square
UID:e.112.3213
SEQUENCE:3
DTSTAMP:20260424T075827Z
URL:http://www.business.pekinchamber.com/events/details/summer-concert-on-court-06-20-2008-3213
END:VEVENT

END:VCALENDAR
