BEGIN:VCALENDAR
VERSION:2.0
PRODID:-//ChamberMaster//Event Calendar 2.0//EN
METHOD:PUBLISH
X-PUBLISHED-TTL:P3D
REFRESH-INTERVAL:P3D
CALSCALE:GREGORIAN
BEGIN:VEVENT
DTSTART:20091205T160000Z
DTEND:20091205T200000Z
X-MICROSOFT-CDO-ALLDAYEVENT:FALSE
SUMMARY:Starke Bazaar on Holiday Drive
DESCRIPTION:Over 30 Vendors and Crafters will be donating their time and profit to Starke Primary School. Come and sit on Santa's lap\, eat lunch\, or buy bake sale items donated by the teachers.
X-ALT-DESC;FMTTYPE=text/html:<div>Over 30 Vendors and Crafters will be donating their time and profit to Starke Primary School. Come and sit on Santa&rsquo\;s lap\, eat lunch\, or buy bake sale items donated by the teachers.</div>
LOCATION:Starke Primary School\, 1610 Holiday Drive\, Pekin
UID:e.112.3736
SEQUENCE:3
DTSTAMP:20260423T054121Z
URL:http://www.business.pekinchamber.com/events/details/starke-bazaar-on-holiday-drive-12-05-2009-3736
END:VEVENT

END:VCALENDAR
