BEGIN:VCALENDAR
VERSION:2.0
PRODID:-//ChamberMaster//Event Calendar 2.0//EN
METHOD:PUBLISH
X-PUBLISHED-TTL:P3D
REFRESH-INTERVAL:P3D
CALSCALE:GREGORIAN
BEGIN:VEVENT
DTSTART;VALUE=DATE:20110317
DTEND;VALUE=DATE:20110318
TRANSP:TRANSPARENT
X-MICROSOFT-CDO-ALLDAYEVENT:TRUE
SUMMARY:St. Patrick's Day Celebration at Paddy O'Flaherty's
DESCRIPTION:Come out and celebrate St. Patrick's Day at Paddy O'Flaherty's Irish Pub! Authentic Irish Food served all day long\, 16 Beers on draught\, and Irish entertainment throughout the day. \n\n1:30pm - Isle of Erin Irish Dancers \n\n5:00pm - Celtic Cross Pipes & Drums \n\n6:00pm - Isle of Erin Irish Dancers
X-ALT-DESC;FMTTYPE=text/html:Come out and celebrate St. Patrick's Day at Paddy O'Flaherty's Irish Pub! Authentic Irish Food served all day long\, 16 Beers on draught\, and Irish entertainment throughout the day. \n<br>1:30pm - Isle of Erin Irish Dancers \n<br>5:00pm - Celtic Cross Pipes &amp\; Drums \n<br>6:00pm - Isle of Erin Irish Dancers \n<br>
LOCATION:Paddy O'Flaherty's located inside the Best Western Ashland House
UID:e.112.5341
SEQUENCE:3
DTSTAMP:20260422T065526Z
URL:http://www.business.pekinchamber.com/events/details/st-patrick-s-day-celebration-at-paddy-o-flaherty-s-03-17-2011-5341
END:VEVENT

END:VCALENDAR
