BEGIN:VCALENDAR
VERSION:2.0
PRODID:-//ChamberMaster//Event Calendar 2.0//EN
METHOD:PUBLISH
X-PUBLISHED-TTL:P3D
REFRESH-INTERVAL:P3D
CALSCALE:GREGORIAN
BEGIN:VEVENT
DTSTART:20111204T190000Z
DTEND:20111204T203000Z
X-MICROSOFT-CDO-ALLDAYEVENT:FALSE
SUMMARY:Southside Business Association & Knights of Columbus Childrens Christmas Party
DESCRIPTION:To be held at the K of C Hall\, 715 N. 11th Street in Pekin.  Doors open at 1:00pm. Children -- infants to 9 years old --  welcome with their parents or guardians.  Hot dog lunch will be served. Door prizes will be given and a Very Special Guest will make an apperance as well.\n\n\n\nPlease bring a non-perishable food item to be donated to a local food pantry.
X-ALT-DESC;FMTTYPE=text/html:To be held at the K of C Hall\, 715 N. 11th Street in&nbsp\;Pekin.&nbsp\; Doors open at 1:00pm. Children -- infants to 9 years old -- &nbsp\;welcome with their parents or guardians.&nbsp\; Hot dog lunch will be served. Door prizes will be given&nbsp\;and a Very Special Guest will make an apperance as well.<br />\n<br />\nPlease bring a non-perishable food item to be donated to a local food pantry.<br />\n<br />\n
LOCATION:K of C Hall 715 N. 11th St. Pekin
UID:e.112.5405
SEQUENCE:3
DTSTAMP:20260420T132233Z
URL:http://www.business.pekinchamber.com/events/details/southside-business-association-knights-of-columbus-childrens-christmas-party-12-04-2011-5405
END:VEVENT

END:VCALENDAR
