BEGIN:VCALENDAR
VERSION:2.0
PRODID:-//ChamberMaster//Event Calendar 2.0//EN
METHOD:PUBLISH
X-PUBLISHED-TTL:P3D
REFRESH-INTERVAL:P3D
CALSCALE:GREGORIAN
BEGIN:VEVENT
DTSTART;VALUE=DATE:20100508
DTEND;VALUE=DATE:20100509
TRANSP:TRANSPARENT
X-MICROSOFT-CDO-ALLDAYEVENT:TRUE
SUMMARY:SBA Salute to Veterans and their families.
DESCRIPTION:May is National Veterans Apprecian month so Southside Business Association will hold an event with Mayor Dunn--mc\, entertainment\, ceremonies\, etc. starting at 11:30 Saturday morning May 8th.
X-ALT-DESC;FMTTYPE=text/html:May is National Veterans Apprecian month so Southside Business Association will hold an event with Mayor Dunn--mc\, entertainment\, ceremonies\, etc. starting at 11:30 Saturday morning May 8th.
LOCATION:southside park\, 10th & Koch st. Pekin Illinois
UID:e.112.4899
SEQUENCE:3
DTSTAMP:20260422T221408Z
URL:http://www.business.pekinchamber.com/events/details/sba-salute-to-veterans-and-their-families-05-08-2010-4899
END:VEVENT

END:VCALENDAR
