BEGIN:VCALENDAR
VERSION:2.0
PRODID:-//ChamberMaster//Event Calendar 2.0//EN
METHOD:PUBLISH
X-PUBLISHED-TTL:P3D
REFRESH-INTERVAL:P3D
CALSCALE:GREGORIAN
BEGIN:VEVENT
DTSTART:20081129T190000Z
DTEND:20081129T210000Z
X-MICROSOFT-CDO-ALLDAYEVENT:FALSE
SUMMARY:SBA Christmas Party
DESCRIPTION:Christmas Party open to all Pekin Children ages 0-10. Games\, prizes\, snacks and Santa.
X-ALT-DESC;FMTTYPE=text/html:Christmas Party open to all Pekin Children ages 0-10. Games\, prizes\, snacks and Santa.
LOCATION:Knights of Columbus Hall 715 north 11th street\, Pekin
UID:e.112.3232
SEQUENCE:3
DTSTAMP:20260424T010911Z
URL:http://www.business.pekinchamber.com/events/details/sba-christmas-party-11-29-2008-3232
END:VEVENT

END:VCALENDAR
