BEGIN:VCALENDAR
VERSION:2.0
PRODID:-//ChamberMaster//Event Calendar 2.0//EN
METHOD:PUBLISH
X-PUBLISHED-TTL:P3D
REFRESH-INTERVAL:P3D
CALSCALE:GREGORIAN
BEGIN:VEVENT
DTSTART:20110723T220000Z
DTEND:20110724T030000Z
X-MICROSOFT-CDO-ALLDAYEVENT:FALSE
SUMMARY:Rockin For TAPS No-Kill Animal Shelter
DESCRIPTION:Rockin for TAPS No-Kill Animal Shelter . Loose Shoes performing from 6:00-10:00p.m.We will have food\, raffles\, and lots of fun.  Gates open at 4:00p.m\, Admission is $5.00
X-ALT-DESC;FMTTYPE=text/html:Rockin for TAPS No-Kill Animal Shelter . Loose Shoes performing from 6:00-10:00p.m.We will have food\, raffles\, and lots of fun.&nbsp\; Gates open at 4:00p.m\, Admission is $5.00
LOCATION:Pekin VFW\, 15665 VFW Road. Pekin\, IL 61554
UID:e.112.5368
SEQUENCE:3
DTSTAMP:20260422T002557Z
URL:http://www.business.pekinchamber.com/events/details/rockin-for-taps-no-kill-animal-shelter-07-23-2011-5368
END:VEVENT

END:VCALENDAR
