BEGIN:VCALENDAR
VERSION:2.0
PRODID:-//ChamberMaster//Event Calendar 2.0//EN
METHOD:PUBLISH
X-PUBLISHED-TTL:P3D
REFRESH-INTERVAL:P3D
CALSCALE:GREGORIAN
BEGIN:VEVENT
DTSTART:20090801T220000Z
DTEND:20090802T040000Z
X-MICROSOFT-CDO-ALLDAYEVENT:FALSE
SUMMARY:Rockin' For Taps
DESCRIPTION:Schedule of Events: 5:00-5:30    Dogs will be on site and available for adoption                    \n5:00-5:30     Rockin' dog costume contest \n5:30-7:00     Opening Music by Mike and Carrie Show\n7:30-11:00   Featured Band: Thirdhand Prizes for the best dressed pooch dressed like your favorite music performer or band.  Dunk tank featuring local celebrities\, 50/50 raffles\, enjoy food from the grill and cold drinks from the bar LOADS OF FUN FOR THE WHOLE FAMILY!!!
X-ALT-DESC;FMTTYPE=text/html:<div><div style="text-align: left\; margin-top: 0in\; margin-bottom: 0pt\; margin-right: 0in"><div style="margin-top: 0in\; margin-bottom: 0pt\; margin-right: 0in">&nbsp\;</div><span style="font-size: larger"><u>Schedule of Events: </u></span></div><div><span style="font-size: larger">5:00-5:30&nbsp\;&nbsp\;&nbsp\; Dogs will be on site and available for adoption&nbsp\;&nbsp\;&nbsp\;&nbsp\;&nbsp\;&nbsp\;&nbsp\;&nbsp\;&nbsp\;&nbsp\;&nbsp\;&nbsp\;&nbsp\;&nbsp\;&nbsp\;&nbsp\;&nbsp\;&nbsp\;&nbsp\; <br />5:00-5:30 &nbsp\;&nbsp\;&nbsp\; Rockin&rsquo\; dog costume contest <br />5:30-7:00 &nbsp\;&nbsp\;&nbsp\; Opening Music by </span><a target="_blank" href="http://www.myspace.com/mikeandcarrieshow"><span style="font-size: larger">Mike and Carrie Show</span></a><span style="font-size: larger"><br />7:30-11:00 &nbsp\; Featured Band: </span><a target="_blank" href="http://www.thirdhandrocks.com/"><span style="font-size: larger">Thirdhand</span></a></div><div><span style="font-size: larger">&nbsp\;</span></div><div style="text-align: left\; margin: 0in 0in 0pt"><span style="font-size: larger"><i>Prizes for the best dressed pooch dressed like your favorite music performer or band.&nbsp\; </i></span><span style="font-size: larger">Dunk tank featuring local celebrities\, 50/50 raffles\, enjoy food from the grill and cold drinks from the bar&hellip\;<b><i>LOADS OF FUN FOR THE WHOLE FAMILY!!!</i></b></span></div></div>
LOCATION:Pekin Boat Club
UID:e.112.3722
SEQUENCE:3
DTSTAMP:20260423T113628Z
URL:http://www.business.pekinchamber.com/events/details/rockin-for-taps-08-01-2009-3722
END:VEVENT

END:VCALENDAR
