BEGIN:VCALENDAR
VERSION:2.0
PRODID:-//ChamberMaster//Event Calendar 2.0//EN
METHOD:PUBLISH
X-PUBLISHED-TTL:P3D
REFRESH-INTERVAL:P3D
CALSCALE:GREGORIAN
BEGIN:VEVENT
DTSTART:20100717T220000Z
DTEND:20100718T030000Z
X-MICROSOFT-CDO-ALLDAYEVENT:FALSE
SUMMARY:Rockin For TAPS
DESCRIPTION:Fundraiser for TAPS No-Kill Animal Shelter. Gates open at 4:00p.m. Joyful Noiz will provide music from 4:00-6:00pm. Comedian Royce Elliott will perform from 5:00 to 5:30 and the band Loose Shoes will perform from 6:00-10:00pm. There will be food\, a dunk tank featuring local celebrities\, 50/50 raffles\, silent auction items\, and a bags tournament.
X-ALT-DESC;FMTTYPE=text/html:Fundraiser for TAPS No-Kill Animal Shelter. Gates open at 4:00p.m. Joyful Noiz will provide music from 4:00-6:00pm. Comedian Royce Elliott will perform from 5:00 to 5:30 and the band Loose Shoes will perform from 6:00-10:00pm. There will be food\, a dunk tank featuring local celebrities\, 50/50 raffles\, silent auction items\, and a bags tournament.
LOCATION:Pekin VFW 15665 VFW Rd. Pekin\, IL
UID:e.112.4906
SEQUENCE:3
DTSTAMP:20260422T185610Z
URL:http://www.business.pekinchamber.com/events/details/rockin-for-taps-07-17-2010-4906
END:VEVENT

END:VCALENDAR
