BEGIN:VCALENDAR
VERSION:2.0
PRODID:-//ChamberMaster//Event Calendar 2.0//EN
METHOD:PUBLISH
X-PUBLISHED-TTL:P3D
REFRESH-INTERVAL:P3D
CALSCALE:GREGORIAN
BEGIN:VEVENT
DTSTART:20080614T210000Z
DTEND:20080615T040000Z
X-MICROSOFT-CDO-ALLDAYEVENT:FALSE
SUMMARY:Rockin' For TAPS
DESCRIPTION:Come out and join us for one of our largest fundraisers.  Rockin' for TAPS is coming up on June 14th from 4pm to 11pm at the Pekin Boat Club on the Pekin riverfront.  The bands Phat Noiz and Loose Shoes will play and food and drinks will be available. A "Rockin' Dog" contest will be held at 4pm where dogs will be dressed like their favorite rocker.
X-ALT-DESC;FMTTYPE=text/html:<p>Come out and join us for one of our largest fundraisers.&nbsp\; Rockin' for TAPS is coming up on June 14th from 4pm to 11pm at the Pekin Boat Club on the Pekin riverfront.&nbsp\; The bands Phat Noiz and Loose Shoes will play and food and drinks will be available.&nbsp\;</p><p>A &quot\;Rockin' Dog&quot\; contest will be held at 4pm where dogs will be dressed like their favorite rocker.&nbsp\;</p>
LOCATION:Pekin Boat Club\, on Pekin's riverfront
UID:e.112.3153
SEQUENCE:3
DTSTAMP:20260424T075700Z
URL:http://www.business.pekinchamber.com/events/details/rockin-for-taps-06-14-2008-3153
END:VEVENT

END:VCALENDAR
