BEGIN:VCALENDAR
VERSION:2.0
PRODID:-//ChamberMaster//Event Calendar 2.0//EN
METHOD:PUBLISH
X-PUBLISHED-TTL:P3D
REFRESH-INTERVAL:P3D
CALSCALE:GREGORIAN
BEGIN:VEVENT
DTSTART:20080329T140000Z
DTEND:20080329T200000Z
X-MICROSOFT-CDO-ALLDAYEVENT:FALSE
SUMMARY:Roam the Dome
DESCRIPTION:TCRC's Roam the Dome: Charity Auction\, Children's Carnival\, Craft Sale\, and Book Sale.  Fun family festival that benefits individuals with developmental disabilities.  Something for everyone!
X-ALT-DESC;FMTTYPE=text/html:TCRC's Roam the Dome: Charity Auction\, Children's Carnival\, Craft Sale\, and Book Sale.  Fun family festival that benefits individuals with developmental disabilities.  Something for everyone!
LOCATION:Pekin Dragon's Dome
UID:e.112.3150
SEQUENCE:3
DTSTAMP:20260424T153009Z
URL:http://www.business.pekinchamber.com/events/details/roam-the-dome-03-29-2008-3150
END:VEVENT

END:VCALENDAR
