BEGIN:VCALENDAR
VERSION:2.0
PRODID:-//ChamberMaster//Event Calendar 2.0//EN
METHOD:PUBLISH
X-PUBLISHED-TTL:P3D
REFRESH-INTERVAL:P3D
CALSCALE:GREGORIAN
BEGIN:VEVENT
DTSTART:20140501T210000Z
DTEND:20140501T213000Z
X-MICROSOFT-CDO-ALLDAYEVENT:FALSE
SUMMARY:Ribbon Cutting: Farmers Insurance - Tatlock Agency
DESCRIPTION:Join us as we welcome a new business to Pekin!  Farmers Insurance - Tatlock Agency.  We'll officially welcome Noele Tatlock to Pekin with a 4pm Ribbon Cutting.
X-ALT-DESC;FMTTYPE=text/html:Join us as we welcome a new business to Pekin!&nbsp\; Farmers Insurance - Tatlock Agency.&nbsp\; We&#39\;ll officially welcome Noele Tatlock to Pekin with a 4pm Ribbon Cutting.
LOCATION:2301 Court Street (Inside REMAX Home Realtor)
UID:e.112.6283
SEQUENCE:3
DTSTAMP:20260421T092332Z
URL:http://www.business.pekinchamber.com/events/details/ribbon-cutting-farmers-insurance-tatlock-agency-05-01-2014-6283
END:VEVENT

END:VCALENDAR
