BEGIN:VCALENDAR
VERSION:2.0
PRODID:-//ChamberMaster//Event Calendar 2.0//EN
METHOD:PUBLISH
X-PUBLISHED-TTL:P3D
REFRESH-INTERVAL:P3D
CALSCALE:GREGORIAN
BEGIN:VEVENT
DTSTART:20091103T223000Z
DTEND:20091103T230000Z
X-MICROSOFT-CDO-ALLDAYEVENT:FALSE
SUMMARY:Ribbon Cutting
DESCRIPTION:Come help the Pekin Area Chamber of Commerce welcome Doctors Hunter and Khan to their new location.
X-ALT-DESC;FMTTYPE=text/html:<div><div><span style="font-size: small">Come help the Pekin Area Chamber of Commerce welcome Doctors Hunter and Khan to their new location.</span></div></div>
LOCATION:3223 Griffin Ave.Pekin\, Il 61554
UID:e.112.3732
SEQUENCE:3
DTSTAMP:20260423T070722Z
URL:http://www.business.pekinchamber.com/events/details/ribbon-cutting-11-03-2009-3732
END:VEVENT

END:VCALENDAR
