BEGIN:VCALENDAR
VERSION:2.0
PRODID:-//ChamberMaster//Event Calendar 2.0//EN
METHOD:PUBLISH
X-PUBLISHED-TTL:P3D
REFRESH-INTERVAL:P3D
CALSCALE:GREGORIAN
BEGIN:VEVENT
DTSTART:20090529T170000Z
DTEND:20090529T180000Z
X-MICROSOFT-CDO-ALLDAYEVENT:FALSE
SUMMARY:Ribbon cutting
DESCRIPTION:Come and help Beck Convenience Store celebrate their newly remodeled store.
X-ALT-DESC;FMTTYPE=text/html:<div><font face="Times New Roman" size="3">Come and help Beck Convenience Store celebrate their newly remodeled store. </font></div>
LOCATION:317 Derby St\,Pekin\, Il 61554
UID:e.112.3718
SEQUENCE:3
DTSTAMP:20260423T154703Z
URL:http://www.business.pekinchamber.com/events/details/ribbon-cutting-05-29-2009-3718
END:VEVENT

END:VCALENDAR
