BEGIN:VCALENDAR
VERSION:2.0
PRODID:-//ChamberMaster//Event Calendar 2.0//EN
METHOD:PUBLISH
X-PUBLISHED-TTL:P3D
REFRESH-INTERVAL:P3D
CALSCALE:GREGORIAN
BEGIN:VEVENT
DTSTART;VALUE=DATE:20090409
DTEND;VALUE=DATE:20090410
TRANSP:TRANSPARENT
X-MICROSOFT-CDO-ALLDAYEVENT:TRUE
SUMMARY:REGISTER BY APRIL 9 - HEART OF ILLINOIS SENIOR OLYMPICS
DESCRIPTION:Join us April 30 to May 3\, 2009\, for the 10th Anniversary of the Heart of Illinois Senior Olympics (HISO). The games not only recognize excellence in fitness\, but also acknowledge the creativity and spirit of those 50 and older. REGISTRATION DEADLINE: APRIL 9.\n \nParticipation in the games is an excellent way to maintain or improve your health\, while enjoying friendly competition. And you don't have to be an expert to compete. Enjoy spending time with friends and meet new people. We offer athletic events from bowling and biking to swimming\, bocce ball\, billiards\, Frisbee throw\, and more.\n\nIf you?re more interested in fine arts\, sign up for events in categories from photography and fiction writing\, to crochet and musical performance.\n\nThere really is something for everyone. So\, come out for your sport or explore your favorite media?and bring along friends and family! This year also features a 10 year anniversary opening ceremony on Thursday\, April 30. \n\nFor more information on the games and the opening\, contact at 309-681-2859 or visit www.hiso.org to download a registration form.
X-ALT-DESC;FMTTYPE=text/html:Join us April 30 to May 3\, 2009\, for the 10th Anniversary of the Heart of Illinois Senior Olympics (HISO). The games not only recognize excellence in fitness\, but also acknowledge the creativity and spirit of those 50 and older. REGISTRATION DEADLINE: APRIL 9.\n \nParticipation in the games is an excellent way to maintain or improve your health\, while enjoying friendly competition. And you don't have to be an expert to compete. Enjoy spending time with friends and meet new people. We offer athletic events from bowling and biking to swimming\, bocce ball\, billiards\, Frisbee throw\, and more.\n\nIf you?re more interested in fine arts\, sign up for events in categories from photography and fiction writing\, to crochet and musical performance.\n\nThere really is something for everyone. So\, come out for your sport or explore your favorite media?and bring along friends and family! This year also features a 10 year anniversary opening ceremony on Thursday\, April 30. \n\nFor more information on the games and the opening\, contact at 309-681-2859 or visit www.hiso.org to download a registration form.\n
LOCATION:Park District facilities in Morton\, Pekin\, Peoria\, and East Peoria
UID:e.112.3663
SEQUENCE:3
DTSTAMP:20260423T172439Z
URL:http://www.business.pekinchamber.com/events/details/register-by-april-9-heart-of-illinois-senior-olympics-04-09-2009-3663
END:VEVENT

END:VCALENDAR
