BEGIN:VCALENDAR
VERSION:2.0
PRODID:-//ChamberMaster//Event Calendar 2.0//EN
METHOD:PUBLISH
X-PUBLISHED-TTL:P3D
REFRESH-INTERVAL:P3D
CALSCALE:GREGORIAN
BEGIN:VEVENT
DTSTART:20111101T233000Z
DTEND:20111102T013000Z
X-MICROSOFT-CDO-ALLDAYEVENT:FALSE
SUMMARY:"Redefining Investment Advice"
DESCRIPTION:Weston Wellington\, V.P. Dimensional Fund Advisors\, will explain why investors owe it to themselves to understand the simple but powerful forces shaping the behavior of capital markets the world over.
X-ALT-DESC;FMTTYPE=text/html:Weston Wellington\, V.P. Dimensional Fund Advisors\, will explain why investors owe it to themselves to understand the simple but powerful forces shaping the behavior of capital markets the world over.
LOCATION:Hult Education Center\, Peoria\, IL
UID:e.112.5399
SEQUENCE:3
DTSTAMP:20260421T181430Z
URL:http://www.business.pekinchamber.com/events/details/redefining-investment-advice-11-01-2011-5399
END:VEVENT

END:VCALENDAR
