BEGIN:VCALENDAR
VERSION:2.0
PRODID:-//ChamberMaster//Event Calendar 2.0//EN
METHOD:PUBLISH
X-PUBLISHED-TTL:P3D
REFRESH-INTERVAL:P3D
CALSCALE:GREGORIAN
BEGIN:VEVENT
DTSTART;VALUE=DATE:20090121
DTEND;VALUE=DATE:20090122
TRANSP:TRANSPARENT
X-MICROSOFT-CDO-ALLDAYEVENT:TRUE
SUMMARY:Red Flag and I D Theft
DESCRIPTION:Review of the new Fair Credit Reporting Act's Red Flag Rules.\nReview of ways to detect and Prevent ID Theft
X-ALT-DESC;FMTTYPE=text/html:Review of the new Fair Credit Reporting Act's Red Flag Rules.\nReview of ways to detect and Prevent ID Theft
LOCATION:11 N 6th Street\, Suite A Pekin IL 61554
UID:e.112.3657
SEQUENCE:3
DTSTAMP:20260423T215822Z
URL:http://www.business.pekinchamber.com/events/details/red-flag-and-i-d-theft-01-21-2009-3657
END:VEVENT

END:VCALENDAR
