BEGIN:VCALENDAR
VERSION:2.0
PRODID:-//ChamberMaster//Event Calendar 2.0//EN
METHOD:PUBLISH
X-PUBLISHED-TTL:P3D
REFRESH-INTERVAL:P3D
CALSCALE:GREGORIAN
BEGIN:VEVENT
DTSTART:20090425T180000Z
DTEND:20090425T220000Z
X-MICROSOFT-CDO-ALLDAYEVENT:FALSE
SUMMARY:Reach Your Potential with Joy
DESCRIPTION:Reach Your Potential with Joy is a free seminar led by international ministry leaders Chris and Jen Coursey. Learn what the latest discoveries in brain science and Biblical principles say about couples\, families and communities reaching their God-given potential. Discover how to grow\, recover when things go wrong and be the person you are designed to be!
X-ALT-DESC;FMTTYPE=text/html:Reach Your Potential with Joy is a free seminar led by international ministry leaders Chris and Jen Coursey. Learn what the latest discoveries in brain science and Biblical principles say about couples\, families and communities reaching their God-given potential. Discover how to grow\, recover when things go wrong and be the person you are designed to be!
LOCATION:New Life Christian Church in Morton\, IL
UID:e.112.3667
SEQUENCE:3
DTSTAMP:20260423T172128Z
URL:http://www.business.pekinchamber.com/events/details/reach-your-potential-with-joy-04-25-2009-3667
END:VEVENT

END:VCALENDAR
