BEGIN:VCALENDAR
VERSION:2.0
PRODID:-//ChamberMaster//Event Calendar 2.0//EN
METHOD:PUBLISH
X-PUBLISHED-TTL:P3D
REFRESH-INTERVAL:P3D
CALSCALE:GREGORIAN
BEGIN:VEVENT
DTSTART:20110222T140000Z
DTEND:20110222T160000Z
X-MICROSOFT-CDO-ALLDAYEVENT:FALSE
SUMMARY:R. David tebben Leadership Academy
DESCRIPTION:R. David Tebben Leadership Academy Field Trip Schedule
X-ALT-DESC;FMTTYPE=text/html:R. David Tebben Leadership Academy Field Trip Schedule
LOCATION:Check your booklet for field trip schedule
UID:e.112.5299
SEQUENCE:3
DTSTAMP:20260422T084412Z
URL:http://www.business.pekinchamber.com/events/details/r-david-tebben-leadership-academy-02-22-2011-5299
END:VEVENT

END:VCALENDAR
