BEGIN:VCALENDAR
VERSION:2.0
PRODID:-//ChamberMaster//Event Calendar 2.0//EN
METHOD:PUBLISH
X-PUBLISHED-TTL:P3D
REFRESH-INTERVAL:P3D
CALSCALE:GREGORIAN
BEGIN:VEVENT
DTSTART:20110120T130000Z
DTEND:20110120T150000Z
X-MICROSOFT-CDO-ALLDAYEVENT:FALSE
SUMMARY:R. David Tebben Leadership Academy
DESCRIPTION:R. Davis Tebben Leadersip Academy Guest Speaker Schedule
X-ALT-DESC;FMTTYPE=text/html:R. Davis Tebben Leadersip Academy Guest Speaker Schedule
LOCATION:Pekin Hospital\, Park Court Conference Center #1 600 S. 13th St. Pekin\, IL 61554
UID:e.112.5283
SEQUENCE:3
DTSTAMP:20260422T095431Z
URL:http://www.business.pekinchamber.com/events/details/r-david-tebben-leadership-academy-01-20-2011-5283
END:VEVENT

END:VCALENDAR
