BEGIN:VCALENDAR
VERSION:2.0
PRODID:-//ChamberMaster//Event Calendar 2.0//EN
METHOD:PUBLISH
X-PUBLISHED-TTL:P3D
REFRESH-INTERVAL:P3D
CALSCALE:GREGORIAN
BEGIN:VEVENT
DTSTART;VALUE=DATE:20100310
DTEND;VALUE=DATE:20100311
TRANSP:TRANSPARENT
X-MICROSOFT-CDO-ALLDAYEVENT:TRUE
SUMMARY:R. David Tebben Community Leadership Academy Schedule
DESCRIPTION:Field Trip #9Legislative Field Trip to Springfield (all day)
X-ALT-DESC;FMTTYPE=text/html:<div><em><u>Field Trip #9</u></em></div><div>Legislative Field Trip to Springfield (all day)</div>
LOCATION:TBA
UID:e.112.4719
SEQUENCE:3
DTSTAMP:20260423T011527Z
URL:http://www.business.pekinchamber.com/events/details/r-david-tebben-community-leadership-academy-schedule-03-10-2010-4719
END:VEVENT

END:VCALENDAR
