BEGIN:VCALENDAR
VERSION:2.0
PRODID:-//ChamberMaster//Event Calendar 2.0//EN
METHOD:PUBLISH
X-PUBLISHED-TTL:P3D
REFRESH-INTERVAL:P3D
CALSCALE:GREGORIAN
BEGIN:VEVENT
DTSTART:20100112T140000Z
DTEND:20100112T160000Z
X-MICROSOFT-CDO-ALLDAYEVENT:FALSE
SUMMARY:R. David Tebben Community Leadership Academy Field Trip Schedule
DESCRIPTION:Field Trip #1Excalibur Seasoning Company
X-ALT-DESC;FMTTYPE=text/html:<div><u><em>Field Trip #1</em></u></div><div>Excalibur Seasoning Company</div>
LOCATION:1800 Riverway Dr.Pekin\, IL 61554
UID:e.112.4709
SEQUENCE:3
DTSTAMP:20260423T040803Z
URL:http://www.business.pekinchamber.com/events/details/r-david-tebben-community-leadership-academy-field-trip-schedule-01-12-2010-4709
END:VEVENT

END:VCALENDAR
