BEGIN:VCALENDAR
VERSION:2.0
PRODID:-//ChamberMaster//Event Calendar 2.0//EN
METHOD:PUBLISH
X-PUBLISHED-TTL:P3D
REFRESH-INTERVAL:P3D
CALSCALE:GREGORIAN
BEGIN:VEVENT
DTSTART:20100317T130000Z
DTEND:20100317T150000Z
X-MICROSOFT-CDO-ALLDAYEVENT:FALSE
SUMMARY:R. David Tebben Community Leadership Academy Field Trip
DESCRIPTION:Field Trip #10Federal Bureau of Prisons
X-ALT-DESC;FMTTYPE=text/html:<div><em><u>Field Trip #10</u></em></div><div>Federal Bureau of Prisons</div>
LOCATION:2600 S. 2nd St.Pekin\, IL 61554
UID:e.112.4721
SEQUENCE:3
DTSTAMP:20260423T011649Z
URL:http://www.business.pekinchamber.com/events/details/r-david-tebben-community-leadership-academy-field-trip-03-17-2010-4721
END:VEVENT

END:VCALENDAR
