BEGIN:VCALENDAR
VERSION:2.0
PRODID:-//ChamberMaster//Event Calendar 2.0//EN
METHOD:PUBLISH
X-PUBLISHED-TTL:P3D
REFRESH-INTERVAL:P3D
CALSCALE:GREGORIAN
BEGIN:VEVENT
DTSTART;VALUE=DATE:20100209
DTEND;VALUE=DATE:20100210
TRANSP:TRANSPARENT
X-MICROSOFT-CDO-ALLDAYEVENT:TRUE
SUMMARY:R. David Tebben Community Leadership Academy Field Trip
DESCRIPTION:Field Trip #5Tour of the City of Pekin
X-ALT-DESC;FMTTYPE=text/html:<div><em><u>Field Trip #5</u></em></div><div>Tour of the City of Pekin</div>
LOCATION:TBA
UID:e.112.4720
SEQUENCE:3
DTSTAMP:20260423T024927Z
URL:http://www.business.pekinchamber.com/events/details/r-david-tebben-community-leadership-academy-field-trip-02-09-2010-4720
END:VEVENT

END:VCALENDAR
