BEGIN:VCALENDAR
VERSION:2.0
PRODID:-//ChamberMaster//Event Calendar 2.0//EN
METHOD:PUBLISH
X-PUBLISHED-TTL:P3D
REFRESH-INTERVAL:P3D
CALSCALE:GREGORIAN
BEGIN:VEVENT
DTSTART:20100311T130000Z
DTEND:20100311T150000Z
X-MICROSOFT-CDO-ALLDAYEVENT:FALSE
SUMMARY:R. David Tebben Community Leadership Academy
DESCRIPTION:Class #10Dirksen and Civil Rights - Frank Machaman\, Executive Director of the Dirksen Congressional Library\; Project PresentationLOCATION: Dirksen Center
X-ALT-DESC;FMTTYPE=text/html:<div><em><u>Class #10</u></em></div><div>Dirksen and Civil Rights - Frank Machaman\, Executive Director of the Dirksen Congressional Library\; Project Presentation</div><div>LOCATION: Dirksen Center</div><div>&nbsp\;</div><div>&nbsp\;</div>
LOCATION:All classorom sessions are held at Pekin Community High School Room B220 unless otherwise noted
UID:e.112.4708
SEQUENCE:3
DTSTAMP:20260423T011645Z
URL:http://www.business.pekinchamber.com/events/details/r-david-tebben-community-leadership-academy-03-11-2010-4708
END:VEVENT

END:VCALENDAR
