BEGIN:VCALENDAR
VERSION:2.0
PRODID:-//ChamberMaster//Event Calendar 2.0//EN
METHOD:PUBLISH
X-PUBLISHED-TTL:P3D
REFRESH-INTERVAL:P3D
CALSCALE:GREGORIAN
BEGIN:VEVENT
DTSTART:20100211T130000Z
DTEND:20100211T150000Z
X-MICROSOFT-CDO-ALLDAYEVENT:FALSE
SUMMARY:R. David Tebben Community Leadership Academy
DESCRIPTION:Class #1Introduction\, Welcome to Leadership\, Chamber of Commerce - Bill Fleming\, Executive Director of the Pekin Area Chamber of CommerceAcademy Facilitator - Pamela Anderson - Community Developemnt Director - City of Pekin
X-ALT-DESC;FMTTYPE=text/html:<div><em><u>Class #1</u></em></div><div>Introduction\, Welcome to Leadership\, Chamber of Commerce - Bill Fleming\, Executive Director of the Pekin Area Chamber of Commerce</div><div>Academy Facilitator - Pamela Anderson - Community Developemnt Director - City of Pekin</div><div>&nbsp\;</div>
LOCATION:All classorom sessions are held at Pekin Community High School Room B220 unless otherwise noted
UID:e.112.4704
SEQUENCE:3
DTSTAMP:20260423T023829Z
URL:http://www.business.pekinchamber.com/events/details/r-david-tebben-community-leadership-academy-02-11-2010-4704
END:VEVENT

END:VCALENDAR
