BEGIN:VCALENDAR
VERSION:2.0
PRODID:-//ChamberMaster//Event Calendar 2.0//EN
METHOD:PUBLISH
X-PUBLISHED-TTL:P3D
REFRESH-INTERVAL:P3D
CALSCALE:GREGORIAN
BEGIN:VEVENT
DTSTART:20110317T153000Z
DTEND:20110317T170000Z
X-MICROSOFT-CDO-ALLDAYEVENT:FALSE
SUMMARY:R&Bs St Pattys Party
DESCRIPTION:R&Bs having a St Patrick's day party\, we are opening early that day at 10:30............party all day with us and an huge pot of corn beef and cabbage\, ours is the best in town!  Specials and lots of fun all day!
X-ALT-DESC;FMTTYPE=text/html:&nbsp\;R&amp\;Bs having a St Patrick&rsquo\;s day party\, we are opening early that day at 10:30............party all day with us and an huge pot of corn beef and cabbage\, ours is the best in town!&nbsp\; Specials and lots of fun all day!<br />\n
LOCATION:Rhythm & Brews 513 Court St Pekin
UID:e.112.5322
SEQUENCE:3
DTSTAMP:20260422T065704Z
URL:http://www.business.pekinchamber.com/events/details/r-bs-st-pattys-party-03-17-2011-5322
END:VEVENT

END:VCALENDAR
