BEGIN:VCALENDAR
VERSION:2.0
PRODID:-//ChamberMaster//Event Calendar 2.0//EN
METHOD:PUBLISH
X-PUBLISHED-TTL:P3D
REFRESH-INTERVAL:P3D
CALSCALE:GREGORIAN
BEGIN:VEVENT
DTSTART;VALUE=DATE:20110327
DTEND;VALUE=DATE:20110328
TRANSP:TRANSPARENT
X-MICROSOFT-CDO-ALLDAYEVENT:TRUE
SUMMARY:R&B's Free Live Music
DESCRIPTION:Free live music\n\n	Every Sunday we have the ''3rd Degree Blues'' hosting our open stag\, these guys are incredible.....sit in and play or sit back and enjoy............Sunday nights are tons of fun at R&Bs......come check it out!
X-ALT-DESC;FMTTYPE=text/html:<p>\n	Free live music<br />\n	Every Sunday we have the &#39\;&#39\;3rd Degree Blues&#39\;&#39\; hosting our open stag\, these guys are incredible.....sit in and play or sit back and enjoy............Sunday nights are tons of fun at R&amp\;Bs......come check it out!<br />\n	&nbsp\;<br />\n	&nbsp\;</p>\n
LOCATION:Rhythm & Brews 513 Court St Pekin
UID:e.112.5326
SEQUENCE:3
DTSTAMP:20260422T065728Z
URL:http://www.business.pekinchamber.com/events/details/r-b-s-free-live-music-03-27-2011-5326
END:VEVENT

END:VCALENDAR
