BEGIN:VCALENDAR
VERSION:2.0
PRODID:-//ChamberMaster//Event Calendar 2.0//EN
METHOD:PUBLISH
X-PUBLISHED-TTL:P3D
REFRESH-INTERVAL:P3D
CALSCALE:GREGORIAN
BEGIN:VEVENT
DTSTART:20110319T010000Z
DTEND:20110318T050000Z
X-MICROSOFT-CDO-ALLDAYEVENT:FALSE
SUMMARY:R&B's Free Live Music
DESCRIPTION:Free live music\n\n	The Farm Hands\, this band is awesome!
X-ALT-DESC;FMTTYPE=text/html:<p>\n	Free live music<br />\n	The Farm Hands\,&nbsp\;this band is awesome!&nbsp\;</p>\n
LOCATION:Rhythm & Brews 513 Court St Pekin
UID:e.112.5340
SEQUENCE:3
DTSTAMP:20260422T065810Z
URL:http://www.business.pekinchamber.com/events/details/r-b-s-free-live-music-03-18-2011-5340
END:VEVENT

END:VCALENDAR
