BEGIN:VCALENDAR
VERSION:2.0
PRODID:-//ChamberMaster//Event Calendar 2.0//EN
METHOD:PUBLISH
X-PUBLISHED-TTL:P3D
REFRESH-INTERVAL:P3D
CALSCALE:GREGORIAN
BEGIN:VEVENT
DTSTART;VALUE=DATE:20110312
DTEND;VALUE=DATE:20110313
TRANSP:TRANSPARENT
X-MICROSOFT-CDO-ALLDAYEVENT:TRUE
SUMMARY:R&B's Anniversary party
DESCRIPTION:Anniversary Party with live free music\, March 12th\n\n	Hey the Players Club is making our annual party!  What a treat and honor it is to have then at our 1st anniversary party.  Come join us\, enjoy the music and help us celebrate one year of business.
X-ALT-DESC;FMTTYPE=text/html:<p>\n	Anniversary Party with live free music\, March 12<sup>th</sup><br />\n	Hey the Players Club is making our annual party!&nbsp\; What a treat and honor it is to have then at our 1st anniversary party.&nbsp\; Come join us\, enjoy the music and help us celebrate one year of business.<br />\n	&nbsp\;</p>\n
LOCATION:Rhythm & Brews 513 Court St Pekin
UID:e.112.5323
SEQUENCE:3
DTSTAMP:20260422T065606Z
URL:http://www.business.pekinchamber.com/events/details/r-b-s-anniversary-party-03-12-2011-5323
END:VEVENT

END:VCALENDAR
